BEGIN:VCALENDAR
PRODID:-//eluceo/ical//2.0/EN
VERSION:2.0
CALSCALE:GREGORIAN
BEGIN:VEVENT
UID:65e6a850c219150ae07325f2752f2e61
DTSTAMP:20260420T164216Z
SUMMARY:Rabbi Mark Gross’s Fourth-Sunday Life-Long Learning Series
DESCRIPTION:Jewish Federation of Greater Naples\nCommunity Calendar\nhttps:
 //jewishnaples.org/calendar/rabbi-mark-grosss-fourth-sunday-life-long-lear
 ning-series-1686331172\n\nRabbi Gross’s Fourth-Sunday Life-Long Learning
  Series
DTSTART;TZID=America/New_York:20240218T093000
DTEND;TZID=America/New_York:20240218T113000
END:VEVENT
END:VCALENDAR
