BEGIN:VCALENDAR
PRODID:-//eluceo/ical//2.0/EN
VERSION:2.0
CALSCALE:GREGORIAN
BEGIN:VEVENT
UID:2f8ea30fdf5a11d10ab7b7eaff18aaf8
DTSTAMP:20260423T090457Z
SUMMARY:Rabbi Mark Gross Fourth-Sunday Life-Learning Series
DESCRIPTION:Jewish Federation of Greater Naples\nCommunity Calendar\nhttps:
 //jewishnaples.org/calendar/rabbi-mark-gross-fourth-sunday-life-learning-s
 eries-1686330996\n\nRabbi Gross’s Fourth-Sunday Life-Long Learning Serie
 s
DTSTART;TZID=America/New_York:20240317T093000
DTEND;TZID=America/New_York:20240317T113000
END:VEVENT
END:VCALENDAR
