BEGIN:VCALENDAR
PRODID:-//eluceo/ical//2.0/EN
VERSION:2.0
CALSCALE:GREGORIAN
BEGIN:VEVENT
UID:a2c33c719b9097dd6753b92bc34eb7ee
DTSTAMP:20260421T222736Z
SUMMARY:Rabbi Chorny's Classes
DESCRIPTION:Jewish Federation of Greater Naples\nCommunity Calendar\nhttps:
 //jewishnaples.org/calendar/rabbi-chornys-classes-1689609186\n\nRabbi Chor
 ny continues his classes with a discussion and comment period.
DTSTART;TZID=America/New_York:20240221T121500
DTEND;TZID=America/New_York:20240221T133000
END:VEVENT
END:VCALENDAR
