BEGIN:VCALENDAR
PRODID:-//eluceo/ical//2.0/EN
VERSION:2.0
CALSCALE:GREGORIAN
BEGIN:VEVENT
UID:ba7ad6c3258dd065a0c5b2411ff50442
DTSTAMP:20260422T123557Z
SUMMARY:Rabbi Chorny's Class
DESCRIPTION:Jewish Federation of Greater Naples\nCommunity Calendar\nhttps:
 //jewishnaples.org/calendar/rabbi-chornys-class-1689605106\n\nBeth Tikvah 
 presents Rabbi Chorny&#039\;s second course.  He will lecture about Jewish
  history\, our Torah\, and learning.  Come enjoy his insights into our rel
 igion.
DTSTART;TZID=America/New_York:20240124T121500
DTEND;TZID=America/New_York:20240124T133000
END:VEVENT
END:VCALENDAR
