BEGIN:VCALENDAR
PRODID:-//eluceo/ical//2.0/EN
VERSION:2.0
CALSCALE:GREGORIAN
BEGIN:VEVENT
UID:58c77c9cb7341114fb03f41880dd643f
DTSTAMP:20260423T115654Z
SUMMARY:Rabbi Chorny's Class  Session #1
DESCRIPTION:Jewish Federation of Greater Naples\nCommunity Calendar\nhttps:
 //jewishnaples.org/calendar/rabbi-chornys-class--session-1-1689603514\n\nR
 abbi Chorny will share his insights into our Jewish history\, Torah and le
 arning.
DTSTART;TZID=America/New_York:20240117T121500
DTEND;TZID=America/New_York:20240117T133000
END:VEVENT
END:VCALENDAR
