BEGIN:VCALENDAR
PRODID:-//eluceo/ical//2.0/EN
VERSION:2.0
CALSCALE:GREGORIAN
BEGIN:VEVENT
UID:33d1a6a1ac90d216be252bf20b46cef1
DTSTAMP:20260423T181908Z
SUMMARY:Puzzle Competition
DESCRIPTION:Jewish Federation of Greater Naples\nCommunity Calendar\nhttps:
 //jewishnaples.org/calendar/puzzle-competition-1717529027\n\nPuzzle Compet
 ition\n\n \n\nCome together to put a 500 piece puzzle together.\n\nComple
 te the puzzle on your own or with friends.\n\nEach team will have their ow
 n puzzle.\n\n \n\nPrizes for the winning team!\n\nFriday\, September 6 at
  11 am.\n\nAll supplies are provided for.\n\nFree program for all.
DTSTART;TZID=America/New_York:20240906T110000
DTEND;TZID=America/New_York:20240906T120000
END:VEVENT
END:VCALENDAR
