BEGIN:VCALENDAR
PRODID:-//eluceo/ical//2.0/EN
VERSION:2.0
CALSCALE:GREGORIAN
BEGIN:VEVENT
UID:b04032ca63f5c1ae37609f2f9ce4b43c
DTSTAMP:20260420T035653Z
SUMMARY:Poms Visit Cultivate Abundance
DESCRIPTION:Jewish Federation of Greater Naples\nCommunity Calendar\nhttps:
 //jewishnaples.org/calendar/poms-visit-cultivate-abundance-1717771165\n\nP
 omegranate Society will visit and tour Cultivate Abundance
DTSTART;TZID=America/New_York:20250212T083000
DTEND;TZID=America/New_York:20250212T160000
END:VEVENT
END:VCALENDAR
