BEGIN:VCALENDAR
PRODID:-//eluceo/ical//2.0/EN
VERSION:2.0
CALSCALE:GREGORIAN
BEGIN:VEVENT
UID:7255b1ee34b7efe67ddca5aa24b61107
DTSTAMP:20260422T201433Z
SUMMARY:Pomegranate Luncheon
DESCRIPTION:Jewish Federation of Greater Naples\nCommunity Calendar\nhttps:
 //jewishnaples.org/calendar/pomegranate-luncheon-1712085014\n\nPomegranate
  Luncheon
DTSTART;TZID=America/New_York:20250305T090000
DTEND;TZID=America/New_York:20250305T150000
END:VEVENT
END:VCALENDAR
