BEGIN:VCALENDAR
PRODID:-//eluceo/ical//2.0/EN
VERSION:2.0
CALSCALE:GREGORIAN
BEGIN:VEVENT
UID:ca98a4a9e87eb45827f6a8d45c25bc3c
DTSTAMP:20260424T060916Z
SUMMARY:PJ Moms Brunch
DESCRIPTION:Jewish Federation of Greater Naples\nCommunity Calendar\nhttps:
 //jewishnaples.org/calendar/pj-moms-brunch-1719501507\n\n
DTSTART;TZID=America/New_York:20240714T113000
DTEND;TZID=America/New_York:20240714T133000
END:VEVENT
END:VCALENDAR
