BEGIN:VCALENDAR
PRODID:-//eluceo/ical//2.0/EN
VERSION:2.0
CALSCALE:GREGORIAN
BEGIN:VEVENT
UID:51d5f5e7bdd8e88dc25b9c0e3fca8136
DTSTAMP:20260420T150514Z
SUMMARY:PJ LibraryPurim Play
DESCRIPTION:Jewish Federation of Greater Naples\nCommunity Calendar\nhttps:
 //jewishnaples.org/calendar/pj-librarypurim-play-1708459270\n\n
DTSTART;TZID=America/New_York:20240317T140000
DTEND;TZID=America/New_York:20240317T160000
END:VEVENT
END:VCALENDAR
