BEGIN:VCALENDAR
PRODID:-//eluceo/ical//2.0/EN
VERSION:2.0
CALSCALE:GREGORIAN
BEGIN:VEVENT
UID:b12e0316e8263946ad8da088fef37cd7
DTSTAMP:20260420T050035Z
SUMMARY:PJ Library Thanksgiving
DESCRIPTION:Jewish Federation of Greater Naples\nCommunity Calendar\nhttps:
 //jewishnaples.org/calendar/pj-library-thanksgiving-1757426090\n\nJoin PJ 
 Library in celebrating Thanksgiving at North Collier Regional Park
DTSTART;TZID=America/New_York:20251116T150000
DTEND;TZID=America/New_York:20251116T170000
END:VEVENT
END:VCALENDAR
