BEGIN:VCALENDAR
PRODID:-//eluceo/ical//2.0/EN
VERSION:2.0
CALSCALE:GREGORIAN
BEGIN:VEVENT
UID:3932d2c4c55588bfafee1047fba2e008
DTSTAMP:20260424T060806Z
SUMMARY:PJ Library Storytime
DESCRIPTION:Jewish Federation of Greater Naples\nCommunity Calendar\nhttps:
 //jewishnaples.org/calendar/pj-library-storytime-1757516688\n\nStorytime a
 nd music for ages 0-2. These events are free for all Families. A small per
 sonal blanket is recommended for non-crawlers. Bring your friends\, or mee
 t new ones!
DTSTART;TZID=America/New_York:20251106T093000
DTEND;TZID=America/New_York:20251106T103000
END:VEVENT
END:VCALENDAR
