BEGIN:VCALENDAR
PRODID:-//eluceo/ical//2.0/EN
VERSION:2.0
CALSCALE:GREGORIAN
BEGIN:VEVENT
UID:23cf98c7a084e9dee283cec2fee79afa
DTSTAMP:20260423T150726Z
SUMMARY:PJ Library Program
DESCRIPTION:Jewish Federation of Greater Naples\nCommunity Calendar\nhttps:
 //jewishnaples.org/calendar/pj-library-program-1618416636\n\nPJ Library Pr
 ogram
DTSTART;TZID=America/New_York:20210521T120000
DTEND;TZID=America/New_York:20210521T123000
END:VEVENT
END:VCALENDAR
