BEGIN:VCALENDAR
PRODID:-//eluceo/ical//2.0/EN
VERSION:2.0
CALSCALE:GREGORIAN
BEGIN:VEVENT
UID:2ff628ee0bfc14a33c8a293f8d787709
DTSTAMP:20260423T122242Z
SUMMARY:PJ Library Program
DESCRIPTION:Jewish Federation of Greater Naples\nCommunity Calendar\nhttps:
 //jewishnaples.org/calendar/pj-library-program\n\nChildren ages 0-8 are we
 lcome!
DTSTART;TZID=America/New_York:20211024T150000
DTEND;TZID=America/New_York:20211024T160000
END:VEVENT
END:VCALENDAR
