BEGIN:VCALENDAR
PRODID:-//eluceo/ical//2.0/EN
VERSION:2.0
CALSCALE:GREGORIAN
BEGIN:VEVENT
UID:aad3a5ef9517490e21250747ce12ad57
DTSTAMP:20260423T150048Z
SUMMARY:PJ Library Party
DESCRIPTION:Jewish Federation of Greater Naples\nCommunity Calendar\nhttps:
 //jewishnaples.org/calendar/pj-library-party-1682018941\n\nPJ Library Part
 y at JFGN
DTSTART;TZID=America/New_York:20230820T150000
DTEND;TZID=America/New_York:20230820T170000
END:VEVENT
END:VCALENDAR
