BEGIN:VCALENDAR
PRODID:-//eluceo/ical//2.0/EN
VERSION:2.0
CALSCALE:GREGORIAN
BEGIN:VEVENT
UID:bae5f9713e30ce26eb6d449e817a2066
DTSTAMP:20260422T160140Z
SUMMARY:PJ LIbrary Night Time Nanny
DESCRIPTION:Jewish Federation of Greater Naples\nCommunity Calendar\nhttps:
 //jewishnaples.org/calendar/pj-library-night-time-nanny-1622730119\n\nPJ L
 ibrary program
DTSTART;TZID=America/New_York:20210704T190000
DTEND;TZID=America/New_York:20210704T200000
END:VEVENT
END:VCALENDAR
