BEGIN:VCALENDAR
PRODID:-//eluceo/ical//2.0/EN
VERSION:2.0
CALSCALE:GREGORIAN
BEGIN:VEVENT
UID:e66964803d4f3724cb5404b8a37e8157
DTSTAMP:20260422T205523Z
SUMMARY:PJ Library Mini Matzah Ball
DESCRIPTION:Jewish Federation of Greater Naples\nCommunity Calendar\nhttps:
 //jewishnaples.org/calendar/pj-library-mini-matzah-ball\n\nPJ Library swim
 ming\, fun\, home hosted
DTSTART;TZID=America/New_York:20251026T123000
DTEND;TZID=America/New_York:20251026T143000
END:VEVENT
END:VCALENDAR
