BEGIN:VCALENDAR
PRODID:-//eluceo/ical//2.0/EN
VERSION:2.0
CALSCALE:GREGORIAN
BEGIN:VEVENT
UID:e835146aad7fbedaccf8b0e36db34e7b
DTSTAMP:20260423T011155Z
SUMMARY:PJ Library Israel Independence Day Program
DESCRIPTION:Jewish Federation of Greater Naples\nCommunity Calendar\nhttps:
 //jewishnaples.org/calendar/pj-library-israel-independence-day-program-161
 6175846\n\nPJ Library\nYom Ha'atzmaut Israel Independence Day Program\nFre
 e! Please register.
DTSTART;TZID=America/New_York:20210418T190000
DTEND;TZID=America/New_York:20210418T200000
END:VEVENT
END:VCALENDAR
