BEGIN:VCALENDAR
PRODID:-//eluceo/ical//2.0/EN
VERSION:2.0
CALSCALE:GREGORIAN
BEGIN:VEVENT
UID:503aafe95a239a86bbf859e78244e7bc
DTSTAMP:20260423T221122Z
SUMMARY:PJ Library Beach Shabbat
DESCRIPTION:Jewish Federation of Greater Naples\nCommunity Calendar\nhttps:
 //jewishnaples.org/calendar/pj-library-beach-shabbat-1715202225\n\n
DTSTART;TZID=America/New_York:20240726T170000
DTEND;TZID=America/New_York:20240726T180000
END:VEVENT
END:VCALENDAR
