BEGIN:VCALENDAR
PRODID:-//eluceo/ical//2.0/EN
VERSION:2.0
CALSCALE:GREGORIAN
BEGIN:VEVENT
UID:cb28f837a60bcb05d1bc0c8c28c20a72
DTSTAMP:20260420T170436Z
SUMMARY:PJ Library at the Beach
DESCRIPTION:Jewish Federation of Greater Naples\nCommunity Calendar\nhttps:
 //jewishnaples.org/calendar/pj-library-at-the-beach-1711646461\n\nPJ Libra
 ry\nBeach Shabbat
DTSTART;TZID=America/New_York:20240517T160000
DTEND;TZID=America/New_York:20240517T170000
END:VEVENT
END:VCALENDAR
