BEGIN:VCALENDAR
PRODID:-//eluceo/ical//2.0/EN
VERSION:2.0
CALSCALE:GREGORIAN
BEGIN:VEVENT
UID:596f4c37f715c24a0ddd5d6b9a970ab2
DTSTAMP:20260423T225036Z
SUMMARY:PJ Library
DESCRIPTION:Jewish Federation of Greater Naples\nCommunity Calendar\nhttps:
 //jewishnaples.org/calendar/pj-library-1707913663\n\nCelebrate Purim with 
 PJ Library at Collier County Library Headquarters Branch\nCrafts\, stories
 \, music\, parade around the library!\nCome in a costume!\nRSVP: programs@
 jewishnaples.org
DTSTART;TZID=America/New_York:20240319T170000
DTEND;TZID=America/New_York:20240319T180000
END:VEVENT
END:VCALENDAR
