BEGIN:VCALENDAR
PRODID:-//eluceo/ical//2.0/EN
VERSION:2.0
CALSCALE:GREGORIAN
BEGIN:VEVENT
UID:f7aab5562592dda4b70c3c533eeacd95
DTSTAMP:20260422T104814Z
SUMMARY:PJ  Library Tu B'Shvat
DESCRIPTION:Jewish Federation of Greater Naples\nCommunity Calendar\nhttps:
 //jewishnaples.org/calendar/pj--library-tu-bshvat-1737896371\n\n
DTSTART;TZID=America/New_York:20250216T170000
DTEND;TZID=America/New_York:20250216T183000
END:VEVENT
END:VCALENDAR
