BEGIN:VCALENDAR
PRODID:-//eluceo/ical//2.0/EN
VERSION:2.0
CALSCALE:GREGORIAN
BEGIN:VEVENT
UID:ba62e6440668bd3d5df459ec36e8d19a
DTSTAMP:20260423T194112Z
SUMMARY:Pilates
DESCRIPTION:Jewish Federation of Greater Naples\nCommunity Calendar\nhttps:
 //jewishnaples.org/calendar/pilates-1732454322\n\nEveryone is invited!\nCo
 me join us for Pilates with instructor Victoria\nEach class is $10.00* and
  last 50 minutes.\nSign up for 1 or all 5 classes\, here at the Nina Iser 
 Jewish Cultural Center\n10:00 AM classes on\nDec. 17\nJan. 14\nFeb. 12\nMa
 rch 25\nApril 15\n\nJoin our Beginner Pilates class and discover the benef
 its of mindful movement! Focus on building strength\, flexibility\, and bo
 dy awareness with low-impact exercises that engage your core\, improve pos
 ture\, and enhance overall mobilit...
DTSTART;TZID=America/New_York:20250212T100000
DTEND;TZID=America/New_York:20250212T110000
END:VEVENT
END:VCALENDAR
