BEGIN:VCALENDAR
PRODID:-//eluceo/ical//2.0/EN
VERSION:2.0
CALSCALE:GREGORIAN
BEGIN:VEVENT
UID:f71994d897e28ad24f65b2ebef4624de
DTSTAMP:20260422T085157Z
SUMMARY:Pictionary
DESCRIPTION:Jewish Federation of Greater Naples\nCommunity Calendar\nhttps:
 //jewishnaples.org/calendar/pictionary-1721064332\n\nWe're organizing a ga
 me of Pictionary and would love for you to join us!\nIt's a fun and creati
 ve game that's perfect for a good time & laughs with friends.\nFriday\, Se
 ptember 20th\n12:00-2:00 pm\nNina Iser Jewish Cultural Center\n\nRegister 
 for this free program\nBring your lunch if you want to!
DTSTART;TZID=America/New_York:20240920T120000
DTEND;TZID=America/New_York:20240920T140000
END:VEVENT
END:VCALENDAR
