BEGIN:VCALENDAR
PRODID:-//eluceo/ical//2.0/EN
VERSION:2.0
CALSCALE:GREGORIAN
BEGIN:VEVENT
UID:c7fbb7a9b6b2de272fccad828f52e64b
DTSTAMP:20260423T170816Z
SUMMARY:PFLAG Service
DESCRIPTION:Jewish Federation of Greater Naples\nCommunity Calendar\nhttps:
 //jewishnaples.org/calendar/pflag-service\n\nPFLAG service will be held at
  Temple Shalom at 3:00 pm
DTSTART;TZID=America/New_York:20170507T150000
DTEND;TZID=America/New_York:20170507T160000
END:VEVENT
END:VCALENDAR
