BEGIN:VCALENDAR
PRODID:-//eluceo/ical//2.0/EN
VERSION:2.0
CALSCALE:GREGORIAN
BEGIN:VEVENT
UID:082d07d93ab95b19528ecb25b25346d4
DTSTAMP:20260424T013226Z
SUMMARY:Personal Security Awareness
DESCRIPTION:Jewish Federation of Greater Naples\nCommunity Calendar\nhttps:
 //jewishnaples.org/calendar/personal-security-awareness-1746817640\n\nJoin
  us
DTSTART;TZID=America/New_York:20250618T130000
DTEND;TZID=America/New_York:20250618T140000
END:VEVENT
END:VCALENDAR
