BEGIN:VCALENDAR
PRODID:-//eluceo/ical//2.0/EN
VERSION:2.0
CALSCALE:GREGORIAN
BEGIN:VEVENT
UID:f0834a03a90afd0856b3910bc7ca736e
DTSTAMP:20260423T055147Z
SUMMARY:No Place For Hate Day
DESCRIPTION:Jewish Federation of Greater Naples\nCommunity Calendar\nhttps:
 //jewishnaples.org/calendar/no-place-for-hate-day-1618586957\n\nJoin ADL F
 lorida in creating a social media movement to counter the rising tide of h
 ate in this country and around the world. No Place for Hate Day celebrate
 s individuals\, schools\, organizations\, and communities that strive to c
 reate diverse\, inclusive\, and equitable spaces. We are also taking nomi
 nations for three awards (community\, school\, corporation) honoring Chang
 e Makers in the Fight Against Hate.\nMore information about getting virtua
 lly involved will be updated on the website: http...
DTSTART;TZID=America/New_York:20210514T090000
DTEND;TZID=America/New_York:20210514T180000
END:VEVENT
END:VCALENDAR
