BEGIN:VCALENDAR
PRODID:-//eluceo/ical//2.0/EN
VERSION:2.0
CALSCALE:GREGORIAN
BEGIN:VEVENT
UID:1687ec337c63eee878c57d7bf7799c65
DTSTAMP:20260423T125545Z
SUMMARY:NJC Yom Kippur Neilah and Yizkor Services
DESCRIPTION:Jewish Federation of Greater Naples\nCommunity Calendar\nhttps:
 //jewishnaples.org/calendar/njc-yom-kippur-neilah-and-yizkor-services-1620
 066110\n\nNaples Jewish Congregation
DTSTART;TZID=America/New_York:20210916T150000
DTEND;TZID=America/New_York:20210916T180000
END:VEVENT
END:VCALENDAR
