BEGIN:VCALENDAR
PRODID:-//eluceo/ical//2.0/EN
VERSION:2.0
CALSCALE:GREGORIAN
BEGIN:VEVENT
UID:ac22734b5164e4936530eb3d21270490
DTSTAMP:20260424T164529Z
SUMMARY:NJC Yom Kippur AM
DESCRIPTION:Jewish Federation of Greater Naples\nCommunity Calendar\nhttps:
 //jewishnaples.org/calendar/njc-yom-kippur-am\n\nNJC
DTSTART;TZID=America/New_York:20161012T103000
DTEND;TZID=America/New_York:20161012T103000
END:VEVENT
END:VCALENDAR
