BEGIN:VCALENDAR
PRODID:-//eluceo/ical//2.0/EN
VERSION:2.0
CALSCALE:GREGORIAN
BEGIN:VEVENT
UID:1aed7b8d95ceb3f32abfd116e51bad81
DTSTAMP:20260423T020239Z
SUMMARY:NJC Tai Chi Simple
DESCRIPTION:Jewish Federation of Greater Naples\nCommunity Calendar\nhttps:
 //jewishnaples.org/calendar/njc-tai-chi-simple\n\nJoin us with the beginni
 ng steps towards Tai Chi in our beautiful gardens.  No previous experience
  needed. Your Love Donation\, of any amount\,  supports the UU and Naples 
 Jewish Congregation.
DTSTART;TZID=America/New_York:20241007T133000
DTEND;TZID=America/New_York:20241007T150000
END:VEVENT
END:VCALENDAR
