BEGIN:VCALENDAR
PRODID:-//eluceo/ical//2.0/EN
VERSION:2.0
CALSCALE:GREGORIAN
BEGIN:VEVENT
UID:53019bc3eda832cddc76c6f96baf867d
DTSTAMP:20260423T105943Z
SUMMARY:NJC Sisterhood Book Club
DESCRIPTION:Jewish Federation of Greater Naples\nCommunity Calendar\nhttps:
 //jewishnaples.org/calendar/njc-sisterhood-book-club\n\nNJC Sisterhood Boo
 k Club\n\n3rd Monday of every month\n\nmeet at Perkins Restaurant on Pine 
 Ridge Rd.
DTSTART;TZID=America/New_York:20170116T120000
DTEND;TZID=America/New_York:20170116T120000
END:VEVENT
END:VCALENDAR
