BEGIN:VCALENDAR
PRODID:-//eluceo/ical//2.0/EN
VERSION:2.0
CALSCALE:GREGORIAN
BEGIN:VEVENT
UID:94c5f45f728c49d575e96bdb739b44e8
DTSTAMP:20260421T222651Z
SUMMARY:NJC Shabbat Services
DESCRIPTION:Jewish Federation of Greater Naples\nCommunity Calendar\nhttps:
 //jewishnaples.org/calendar/njc-shabbat-services-20\n\nNJC Shabbat Service
 s
DTSTART;TZID=America/New_York:20190621T190000
DTEND;TZID=America/New_York:20190621T210000
END:VEVENT
END:VCALENDAR
