BEGIN:VCALENDAR
PRODID:-//eluceo/ical//2.0/EN
VERSION:2.0
CALSCALE:GREGORIAN
BEGIN:VEVENT
UID:4e6f9e6e07b02fbcaf3f9665e2bfd679
DTSTAMP:20260423T024031Z
SUMMARY:NJC Shabbat Services
DESCRIPTION:Jewish Federation of Greater Naples\nCommunity Calendar\nhttps:
 //jewishnaples.org/calendar/njc-shabbat-services-16\n\nKol Nidre 
DTSTART;TZID=America/New_York:20180918T190000
DTEND;TZID=America/New_York:20180918T210000
END:VEVENT
END:VCALENDAR
