BEGIN:VCALENDAR
PRODID:-//eluceo/ical//2.0/EN
VERSION:2.0
CALSCALE:GREGORIAN
BEGIN:VEVENT
UID:26f069c1179d8f30e9df0cd65ce3a7d4
DTSTAMP:20260423T153554Z
SUMMARY:NJC Shabbat Services
DESCRIPTION:Jewish Federation of Greater Naples\nCommunity Calendar\nhttps:
 //jewishnaples.org/calendar/njc-shabbat-services-1588078946\n\nNaples Jewi
 sh Congregation\nShabbat Service\n7:00 pm
DTSTART;TZID=America/New_York:20200904T190000
DTEND;TZID=America/New_York:20200904T210000
END:VEVENT
END:VCALENDAR
