BEGIN:VCALENDAR
PRODID:-//eluceo/ical//2.0/EN
VERSION:2.0
CALSCALE:GREGORIAN
BEGIN:VEVENT
UID:62dd32aff92d67189e7e71d947e42c98
DTSTAMP:20260423T181848Z
SUMMARY:NJC Shabbat Services
DESCRIPTION:Jewish Federation of Greater Naples\nCommunity Calendar\nhttps:
 //jewishnaples.org/calendar/njc-shabbat-services-13\n\nNJC Shabbat Service
 s\n\nMost Fridays.
DTSTART;TZID=America/New_York:20180907T190000
DTEND;TZID=America/New_York:20180907T200000
END:VEVENT
END:VCALENDAR
