BEGIN:VCALENDAR
PRODID:-//eluceo/ical//2.0/EN
VERSION:2.0
CALSCALE:GREGORIAN
BEGIN:VEVENT
UID:636adfd0160fbbcf27e52b8607d0f59b
DTSTAMP:20260424T090738Z
SUMMARY:NJC Shabbat Service
DESCRIPTION:Jewish Federation of Greater Naples\nCommunity Calendar\nhttps:
 //jewishnaples.org/calendar/njc-shabbat-service-7\n\nNJC Shabbat Service a
 t 7:00 pm
DTSTART;TZID=America/New_York:20180525T190000
DTEND;TZID=America/New_York:20180525T200000
END:VEVENT
END:VCALENDAR
