BEGIN:VCALENDAR
PRODID:-//eluceo/ical//2.0/EN
VERSION:2.0
CALSCALE:GREGORIAN
BEGIN:VEVENT
UID:eff59d42f7444b4871f196656969d4e7
DTSTAMP:20260421T065148Z
SUMMARY:NJC Shabbat Service
DESCRIPTION:Jewish Federation of Greater Naples\nCommunity Calendar\nhttps:
 //jewishnaples.org/calendar/njc-shabbat-service-6\n\nNJC Shabbat Service a
 t 10:30 am at UU
DTSTART;TZID=America/New_York:20180428T103000
DTEND;TZID=America/New_York:20180428T123000
END:VEVENT
END:VCALENDAR
