BEGIN:VCALENDAR
PRODID:-//eluceo/ical//2.0/EN
VERSION:2.0
CALSCALE:GREGORIAN
BEGIN:VEVENT
UID:c28a1036a76a71ef0f65fce3d5ad8ffa
DTSTAMP:20260419T222237Z
SUMMARY:NJC Shabbat Service
DESCRIPTION:Jewish Federation of Greater Naples\nCommunity Calendar\nhttps:
 //jewishnaples.org/calendar/njc-shabbat-service-5\n\nNJC Shabbat Service a
 t UU
DTSTART;TZID=America/New_York:20180317T103000
DTEND;TZID=America/New_York:20180317T123000
END:VEVENT
END:VCALENDAR
