BEGIN:VCALENDAR
PRODID:-//eluceo/ical//2.0/EN
VERSION:2.0
CALSCALE:GREGORIAN
BEGIN:VEVENT
UID:2e4836109e509b5679f93dd4df727e94
DTSTAMP:20260423T165508Z
SUMMARY:NJC Shabbat Service
DESCRIPTION:Jewish Federation of Greater Naples\nCommunity Calendar\nhttps:
 //jewishnaples.org/calendar/njc-shabbat-service-3\n\nNJC Shabbat Service a
 t 10:30 am
DTSTART;TZID=America/New_York:20180106T103000
DTEND;TZID=America/New_York:20180106T123000
END:VEVENT
END:VCALENDAR
