BEGIN:VCALENDAR
PRODID:-//eluceo/ical//2.0/EN
VERSION:2.0
CALSCALE:GREGORIAN
BEGIN:VEVENT
UID:a80c452cd0b7a98bbd4e8a994f34e728
DTSTAMP:20260424T013603Z
SUMMARY:NJC Shabbat Service
DESCRIPTION:Jewish Federation of Greater Naples\nCommunity Calendar\nhttps:
 //jewishnaples.org/calendar/njc-shabbat-service-1588079616\n\nNJC Shabbat 
 Service
DTSTART;TZID=America/New_York:20210618T190000
DTEND;TZID=America/New_York:20210618T210000
END:VEVENT
END:VCALENDAR
