BEGIN:VCALENDAR
PRODID:-//eluceo/ical//2.0/EN
VERSION:2.0
CALSCALE:GREGORIAN
BEGIN:VEVENT
UID:c65e089b474904ac6b9b24f2e0fa0f74
DTSTAMP:20260422T183621Z
SUMMARY:NJC Shabbat Service
DESCRIPTION:Jewish Federation of Greater Naples\nCommunity Calendar\nhttps:
 //jewishnaples.org/calendar/njc-shabbat-service-1588079429\n\nNJC Shabbat 
 Service
DTSTART;TZID=America/New_York:20210306T100000
DTEND;TZID=America/New_York:20210306T120000
END:VEVENT
END:VCALENDAR
