BEGIN:VCALENDAR
PRODID:-//eluceo/ical//2.0/EN
VERSION:2.0
CALSCALE:GREGORIAN
BEGIN:VEVENT
UID:25c53382cd021189f8318c14bb46e9c7
DTSTAMP:20260422T183747Z
SUMMARY:NJC Shabbat Service
DESCRIPTION:Jewish Federation of Greater Naples\nCommunity Calendar\nhttps:
 //jewishnaples.org/calendar/njc-shabbat-service-1588079297\n\nNJC Shabbat 
 Service
DTSTART;TZID=America/New_York:20210109T100000
DTEND;TZID=America/New_York:20210109T120000
END:VEVENT
END:VCALENDAR
