BEGIN:VCALENDAR
PRODID:-//eluceo/ical//2.0/EN
VERSION:2.0
CALSCALE:GREGORIAN
BEGIN:VEVENT
UID:5195a49e454ffd4035ca944648aeb078
DTSTAMP:20260422T010353Z
SUMMARY:NJC Shabbat Service
DESCRIPTION:Jewish Federation of Greater Naples\nCommunity Calendar\nhttps:
 //jewishnaples.org/calendar/njc-shabbat-service-11\n\nNJC Shabbat Services
DTSTART;TZID=America/New_York:20180727T190000
DTEND;TZID=America/New_York:20180727T200000
END:VEVENT
END:VCALENDAR
