BEGIN:VCALENDAR
PRODID:-//eluceo/ical//2.0/EN
VERSION:2.0
CALSCALE:GREGORIAN
BEGIN:VEVENT
UID:ba89687516333e4bf2a0efaaa7378fd2
DTSTAMP:20260422T163149Z
SUMMARY:NJC Shabbat Service
DESCRIPTION:Jewish Federation of Greater Naples\nCommunity Calendar\nhttps:
 //jewishnaples.org/calendar/njc-shabbat-service\n\nheld at uu
DTSTART;TZID=America/New_York:20160826T193000
DTEND;TZID=America/New_York:20160826T193000
END:VEVENT
END:VCALENDAR
