BEGIN:VCALENDAR
PRODID:-//eluceo/ical//2.0/EN
VERSION:2.0
CALSCALE:GREGORIAN
BEGIN:VEVENT
UID:26dd85e74bef70b6831eee9b585e597a
DTSTAMP:20260422T065309Z
SUMMARY:NJC Shabbat Morning Torah Service
DESCRIPTION:Jewish Federation of Greater Naples\nCommunity Calendar\nhttps:
 //jewishnaples.org/calendar/njc-shabbat-morning-torah-service-1620063907\n
 \nNaples Jewish Congregation
DTSTART;TZID=America/New_York:20220129T100000
DTEND;TZID=America/New_York:20220129T120000
END:VEVENT
END:VCALENDAR
