BEGIN:VCALENDAR
PRODID:-//eluceo/ical//2.0/EN
VERSION:2.0
CALSCALE:GREGORIAN
BEGIN:VEVENT
UID:cda855de87b545fcc98c827983a64a74
DTSTAMP:20260422T213919Z
SUMMARY:NJC Shabbat Morning Services
DESCRIPTION:Jewish Federation of Greater Naples\nCommunity Calendar\nhttps:
 //jewishnaples.org/calendar/njc-shabbat-morning-services-1726579715\n\nMor
 ning Services are followed by Kiddush Lunch\,  be our guests!
DTSTART;TZID=America/New_York:20241221T100000
DTEND;TZID=America/New_York:20241221T130000
END:VEVENT
END:VCALENDAR
