BEGIN:VCALENDAR
PRODID:-//eluceo/ical//2.0/EN
VERSION:2.0
CALSCALE:GREGORIAN
BEGIN:VEVENT
UID:94203c9f97a1a0a3a9912fe6e77c8f15
DTSTAMP:20260422T193857Z
SUMMARY:NJC Shabbat Evening Service
DESCRIPTION:Jewish Federation of Greater Naples\nCommunity Calendar\nhttps:
 //jewishnaples.org/calendar/njc-shabbat-evening-service-1682096977\n\nNapl
 es Jewish Congregation Evening Service
DTSTART;TZID=America/New_York:20230526T190000
DTEND;TZID=America/New_York:20230526T210000
END:VEVENT
END:VCALENDAR
