BEGIN:VCALENDAR
PRODID:-//eluceo/ical//2.0/EN
VERSION:2.0
CALSCALE:GREGORIAN
BEGIN:VEVENT
UID:c7c5a2dfb0f86e511157e0db5ecfceb5
DTSTAMP:20260423T033742Z
SUMMARY:NJC Shabbat
DESCRIPTION:Jewish Federation of Greater Naples\nCommunity Calendar\nhttps:
 //jewishnaples.org/calendar/njc-shabbat\n\nHeld at the UU
DTSTART;TZID=America/New_York:20170901T190000
DTEND;TZID=America/New_York:20170901T200000
END:VEVENT
END:VCALENDAR
