BEGIN:VCALENDAR
PRODID:-//eluceo/ical//2.0/EN
VERSION:2.0
CALSCALE:GREGORIAN
BEGIN:VEVENT
UID:c177951084b337bba055c7a5f9c36e37
DTSTAMP:20260423T004506Z
SUMMARY:NJC Saturday Shabbat Services
DESCRIPTION:Jewish Federation of Greater Naples\nCommunity Calendar\nhttps:
 //jewishnaples.org/calendar/njc-saturday-shabbat-services-1734202433\n\nJo
 in us as the men of NJC conduct our Shabbar Morning Service followed by a 
 Kiddush BBQ
DTSTART;TZID=America/New_York:20250125T100000
DTEND;TZID=America/New_York:20250125T120000
END:VEVENT
END:VCALENDAR
