BEGIN:VCALENDAR
PRODID:-//eluceo/ical//2.0/EN
VERSION:2.0
CALSCALE:GREGORIAN
BEGIN:VEVENT
UID:5bd1a3a94607da2429be84361d7aefc3
DTSTAMP:20260420T163608Z
SUMMARY:NJC Rosh Hashanah
DESCRIPTION:Jewish Federation of Greater Naples\nCommunity Calendar\nhttps:
 //jewishnaples.org/calendar/njc-rosh-hashanah\n\nHeld at UU
DTSTART;TZID=America/New_York:20161003T103000
DTEND;TZID=America/New_York:20161003T103000
END:VEVENT
END:VCALENDAR
